BEGIN:VCALENDAR
VERSION:2.0
PRODID:-//Stratis iCal API//FR
CALSCALE:GREGORIAN
X-WR-CALNAME:🎤Audition publique à Saint-Vallier-de-Thiey
BEGIN:VEVENT
UID:event-1145
SUMMARY:🎤Audition publique à Saint-Vallier-de-Thiey
DESCRIPTION:Venez partager un moment festif et musical avec nos jeunes talents !
DTSTAMP:20251127T112138Z
DTSTART:20251210T160000Z
DTEND:20251210T170000Z
STATUS:CONFIRMED
SEQUENCE:15
BEGIN:VALARM
TRIGGER:-PT30M
DESCRIPTION:🎤Audition publique à Saint-Vallier-de-Thiey
ACTION:DISPLAY
END:VALARM
END:VEVENT
END:VCALENDAR