BEGIN:VCALENDAR
VERSION:2.0
PRODID:-//Stratis iCal API//FR
CALSCALE:GREGORIAN
X-WR-CALNAME:🎄Le Conservatoire au marché de Noël de Colomars
BEGIN:VEVENT
UID:event-1146
SUMMARY:🎄Le Conservatoire au marché de Noël de Colomars
DESCRIPTION:Un moment musical chaleureux pour plonger dans la magie des fêtes.
DTSTAMP:20251127T152628Z
DTSTART:20251213T100000Z
DTEND:20251213T113000Z
STATUS:CONFIRMED
SEQUENCE:11
BEGIN:VALARM
TRIGGER:-PT30M
DESCRIPTION:🎄Le Conservatoire au marché de Noël de Colomars
ACTION:DISPLAY
END:VALARM
END:VEVENT
END:VCALENDAR