BEGIN:VCALENDAR
VERSION:2.0
PRODID:-//Stratis iCal API//FR
CALSCALE:GREGORIAN
X-WR-CALNAME:🎅Le Conservatoire au marché de Noël de Clans 
BEGIN:VEVENT
UID:event-1148
SUMMARY:🎅Le Conservatoire au marché de Noël de Clans 
DESCRIPTION:Un moment musical chaleureux pour plonger dans la magie des fêtes.
DTSTAMP:20251127T155029Z
DTSTART:20251214T090000Z
DTEND:20251214T110000Z
STATUS:CONFIRMED
SEQUENCE:6
BEGIN:VALARM
TRIGGER:-PT30M
DESCRIPTION:🎅Le Conservatoire au marché de Noël de Clans 
ACTION:DISPLAY
END:VALARM
END:VEVENT
END:VCALENDAR