BEGIN:VCALENDAR
VERSION:2.0
PRODID:-//Stratis iCal API//FR
CALSCALE:GREGORIAN
X-WR-CALNAME:🎺L'Harmonie Orch'extra06 en concert
BEGIN:VEVENT
UID:event-1149
SUMMARY:🎺L'Harmonie Orch'extra06 en concert
DESCRIPTION:L’Harmonie Orch’Extra06 se produira le samedi 6 décembre à 18h30 à Saint-Sauveur-sur-Tinée pour un concert gratuit et ouvert à tous.
DTSTAMP:20251128T105813Z
DTSTART:20251206T173000Z
DTEND:20251206T183000Z
STATUS:CONFIRMED
SEQUENCE:7
BEGIN:VALARM
TRIGGER:-PT30M
DESCRIPTION:🎺L'Harmonie Orch'extra06 en concert
ACTION:DISPLAY
END:VALARM
END:VEVENT
END:VCALENDAR