BEGIN:VCALENDAR
VERSION:2.0
PRODID:-//Stratis iCal API//FR
CALSCALE:GREGORIAN
X-WR-CALNAME:🎼Audition publique à Tende
BEGIN:VEVENT
UID:event-1150
SUMMARY:🎼Audition publique à Tende
DESCRIPTION:Venez partager un moment festif et musical avec nos jeunes talents !
DTSTAMP:20251128T113627Z
DTSTART:20251210T160000Z
DTEND:20251210T171500Z
STATUS:CONFIRMED
SEQUENCE:6
BEGIN:VALARM
TRIGGER:-PT30M
DESCRIPTION:🎼Audition publique à Tende
ACTION:DISPLAY
END:VALARM
END:VEVENT
END:VCALENDAR