BEGIN:VCALENDAR
VERSION:2.0
PRODID:-//Stratis iCal API//FR
CALSCALE:GREGORIAN
X-WR-CALNAME:🎹Audition-Concert en Hommage à Maurice Ravel à Levens
BEGIN:VEVENT
UID:event-1151
SUMMARY:🎹Audition-Concert en Hommage à Maurice Ravel à Levens
DESCRIPTION:Venez partager un moment festif et musical avec nos jeunes talents !
DTSTAMP:20251128T115108Z
DTSTART:20251210T153000Z
DTEND:20251210T163000Z
STATUS:CONFIRMED
SEQUENCE:7
BEGIN:VALARM
TRIGGER:-PT30M
DESCRIPTION:🎹Audition-Concert en Hommage à Maurice Ravel à Levens
ACTION:DISPLAY
END:VALARM
END:VEVENT
END:VCALENDAR