BEGIN:VCALENDAR
VERSION:2.0
PRODID:-//Stratis iCal API//FR
CALSCALE:GREGORIAN
X-WR-CALNAME:🎹Audition publique à Gilette
BEGIN:VEVENT
UID:event-1152
SUMMARY:🎹Audition publique à Gilette
DESCRIPTION:Venez partager un moment festif et musical avec nos jeunes talents !
DTSTAMP:20251128T115813Z
DTSTART:20251211T173000Z
DTEND:20251211T190000Z
STATUS:CONFIRMED
SEQUENCE:2
BEGIN:VALARM
TRIGGER:-PT30M
DESCRIPTION:🎹Audition publique à Gilette
ACTION:DISPLAY
END:VALARM
END:VEVENT
END:VCALENDAR