BEGIN:VCALENDAR
VERSION:2.0
PRODID:-//Stratis iCal API//FR
CALSCALE:GREGORIAN
X-WR-CALNAME:🎻Audition publique à Saint-Cézaire-sur-Siagne
BEGIN:VEVENT
UID:event-1153
SUMMARY:🎻Audition publique à Saint-Cézaire-sur-Siagne
DESCRIPTION:Venez partager un moment festif et musical avec nos jeunes talents !
DTSTAMP:20251128T133114Z
DTSTART:20251215T163000Z
DTEND:20251215T180000Z
STATUS:CONFIRMED
SEQUENCE:4
BEGIN:VALARM
TRIGGER:-PT30M
DESCRIPTION:🎻Audition publique à Saint-Cézaire-sur-Siagne
ACTION:DISPLAY
END:VALARM
END:VEVENT
END:VCALENDAR