BEGIN:VCALENDAR
VERSION:2.0
PRODID:-//Stratis iCal API//FR
CALSCALE:GREGORIAN
X-WR-CALNAME:🩰Portes ouvertes Danse Classique à Tende
BEGIN:VEVENT
UID:event-1157
SUMMARY:🩰Portes ouvertes Danse Classique à Tende
DESCRIPTION:Venez découvrir la Danse Classique lors d’un cours ouvert à tous  animé par notre professeure Carlotta Pini.
DTSTAMP:20251202T085814Z
DTSTART:20251215T160000Z
DTEND:20251215T200000Z
STATUS:CONFIRMED
SEQUENCE:9
BEGIN:VALARM
TRIGGER:-PT30M
DESCRIPTION:🩰Portes ouvertes Danse Classique à Tende
ACTION:DISPLAY
END:VALARM
END:VEVENT
END:VCALENDAR