BEGIN:VCALENDAR
VERSION:2.0
PRODID:-//Stratis iCal API//FR
CALSCALE:GREGORIAN
X-WR-CALNAME:🩰Portes ouvertes Danse Classique à Villars-sur-Var
BEGIN:VEVENT
UID:event-1158
SUMMARY:🩰Portes ouvertes Danse Classique à Villars-sur-Var
DESCRIPTION:Venez découvrir la Danse Classique lors d’un cours ouvert à tous  animé par notre professeure Carlotta Pini.
DTSTAMP:20251202T091216Z
DTSTART:20251216T153000Z
DTEND:20251216T181500Z
STATUS:CONFIRMED
SEQUENCE:5
BEGIN:VALARM
TRIGGER:-PT30M
DESCRIPTION:🩰Portes ouvertes Danse Classique à Villars-sur-Var
ACTION:DISPLAY
END:VALARM
END:VEVENT
END:VCALENDAR