BEGIN:VCALENDAR
VERSION:2.0
PRODID:-//Stratis iCal API//FR
CALSCALE:GREGORIAN
X-WR-CALNAME:🎼Audition publique à Gréolières
BEGIN:VEVENT
UID:event-1197
SUMMARY:🎼Audition publique à Gréolières
DESCRIPTION:Venez partager un moment festif et musical avec nos talents adultes !
DTSTAMP:20251205T140240Z
DTSTART:20251220T163000Z
DTEND:20251220T173000Z
STATUS:CONFIRMED
SEQUENCE:6
BEGIN:VALARM
TRIGGER:-PT30M
DESCRIPTION:🎼Audition publique à Gréolières
ACTION:DISPLAY
END:VALARM
END:VEVENT
END:VCALENDAR