BEGIN:VCALENDAR
VERSION:2.0
PRODID:-//Stratis iCal API//FR
CALSCALE:GREGORIAN
X-WR-CALNAME:🌿🎵🩰Stage d'été Musique, Danse et Nature
BEGIN:VEVENT
UID:event-1234
SUMMARY:🌿🎵🩰Stage d'été Musique  Danse et Nature
DESCRIPTION:Viens vivre une semaine de musique  de danse et de nature au cœur des montagnes des Alpes-Maritimes. Deux sessions sont organisées cet été : du 5 au 11 juillet à Puget-Théniers. du 23 au 29 août à Saint-Étienne-de-Tinée. Une semaine pour se retrouver  apprendre  partager et profiter de la montagne dans une ambiance conviviale !
DTSTAMP:20260210T160112Z
DTSTART:20260822T220000Z
DTEND:20260828T220000Z
STATUS:CONFIRMED
SEQUENCE:19
BEGIN:VALARM
TRIGGER:-PT30M
DESCRIPTION:🌿🎵🩰Stage d'été Musique  Danse et Nature
ACTION:DISPLAY
END:VALARM
END:VEVENT
END:VCALENDAR